BEGIN:VCALENDAR
VERSION:2.0
PRODID:-//madebymellc.com - ECPv6.15.18//NONSGML v1.0//EN
CALSCALE:GREGORIAN
METHOD:PUBLISH
X-ORIGINAL-URL:https://madebymellc.com
X-WR-CALDESC:Events for madebymellc.com
REFRESH-INTERVAL;VALUE=DURATION:PT1H
X-Robots-Tag:noindex
X-PUBLISHED-TTL:PT1H
BEGIN:VTIMEZONE
TZID:America/Creston
BEGIN:STANDARD
TZOFFSETFROM:-0700
TZOFFSETTO:-0700
TZNAME:MST
DTSTART:20240101T000000
END:STANDARD
END:VTIMEZONE
BEGIN:VEVENT
DTSTART;TZID=America/Creston:20251208T150000
DTEND;TZID=America/Creston:20251219T180000
DTSTAMP:20260419T194753
CREATED:20251118T162228Z
LAST-MODIFIED:20251205T164534Z
UID:531-1765206000-1766167200@madebymellc.com
SUMMARY:After School Activities – December Program
DESCRIPTION:🌟 After School Activities – December Edition (3 PM – 6 PM)Give your child a fun\, educational\, and engaging after-school experience every weekday in December! \n🗓 Program Dates: \n\n\nMonday – Friday\, December 8 – 19\, 2025 \n\n\n⏰ Time: 3:00 PM – 6:00 PM🎒 Total Sessions: 10 sessions💵 Program Fee: $229 for the full month👶 Age Group: 4 – 10 years \n📘 Program Highlights: \n\n\n📖 Quran \n\n\n🕌 Arabic \n\n\n📚 Islamic Studies (interactive & engaging curricula) \n\n\n🧩 Sensory & group movement games \n\n\n🍎 Healthy snacks provided \n\n\n🧠 Level assessment to place children in suitable groups \n\n\n✨ Safe\, nurturing environment where children learn\, play\, and grow every afternoon.🎟 One ticket covers all sessions in December. Sibling discount of 20% is available.
URL:https://madebymellc.com/event/after-school-activities-dec/
LOCATION:Made By Me – Redmond\, 2687 151st Place NE\, Suite 3C\, Redmond\, WA\, 98052\, United States
CATEGORIES:After School
ATTACH;FMTTYPE=image/png:https://madebymellc.com/wp-content/uploads/2025/11/after.png
END:VEVENT
END:VCALENDAR