BEGIN:VCALENDAR
VERSION:2.0
PRODID:-//madebymellc.com - ECPv6.15.18//NONSGML v1.0//EN
CALSCALE:GREGORIAN
METHOD:PUBLISH
X-WR-CALNAME:madebymellc.com
X-ORIGINAL-URL:https://madebymellc.com
X-WR-CALDESC:Events for madebymellc.com
REFRESH-INTERVAL;VALUE=DURATION:PT1H
X-Robots-Tag:noindex
X-PUBLISHED-TTL:PT1H
BEGIN:VTIMEZONE
TZID:America/Creston
BEGIN:STANDARD
TZOFFSETFROM:-0700
TZOFFSETTO:-0700
TZNAME:MST
DTSTART:20250101T000000
END:STANDARD
END:VTIMEZONE
BEGIN:VEVENT
DTSTART;TZID=America/Creston:20260109T170000
DTEND;TZID=America/Creston:20260213T190000
DTSTAMP:20260419T074121
CREATED:20251231T205335Z
LAST-MODIFIED:20260103T013541Z
UID:1567-1767978000-1771009200@madebymellc.com
SUMMARY:🌙 Ladies’ Qur’an Halaqa – Friday Nights 🌙
DESCRIPTION:A peaceful Friday evening to reconnect with the Qur’an and nourish your heart 🤍 \nJoin us for a weekly women-only Qur’an halaqa designed to strengthen your relationship with the Qur’an in a calm\, supportive\, and welcoming environment. These sessions focus on practical learning\, reflection\, and consistency—perfect for ending your week with intention and peace. \n\n\n📚 What We’ll Focus On\n\n\n📖 Qur’an memorization & reading practice \n\n\n🔤 Qaida Noorania \n\n\n🕌 Tajweed (clear\, practical\, and easy to follow) \n\n\n🗣️ Sessions taught in English \n\n\n\n\n✨ For Your Comfort\n\n\n👶 Child play area available \n\n\n☕ Hot drink provided \n\n\n🤍 Warm\, women-only atmosphere \n\n\n\n\n🗓 Program Details\n📅 Dates: January 9 – February 13📚 Duration: 6 sessions🕔 Time: 5:00 – 7:00 PM📍 Location: Made by Me Studio – Redmond \n  \n\n\n👩‍🏫 Led by: Heba Attia\nArchitect & Founder of Made by Me \n\n\n9+ years of experience in educational and community programs \n\n\nIjazah in Qur’an (Hafs & Shu‘bah ‘an ‘Asim) & Qaida Noorania \n\n\nCompleted a 4-year Qur’an Teacher Preparation Program \n\n\nFounder of Made by Me\, serving dozens of families in our local Muslim community \n\n\n✨ A space created with intention\, care\, and love for the Qur’an. \n\nYou may register per session or choose the Full Program Pass. \n\n⚠️ Limited spots available to keep sessions focused and personal.
URL:https://madebymellc.com/event/%f0%9f%8c%99-ladies-quran-halaqa-friday-nights-%f0%9f%8c%99/
LOCATION:Made By Me – Redmond\, 2687 151st Place NE\, Suite 3C\, Redmond\, WA\, 98052\, United States
CATEGORIES:Community Events
ATTACH;FMTTYPE=image/png:https://madebymellc.com/wp-content/uploads/2025/12/halaqa.png
ORGANIZER;CN="Heba Attia":MAILTO:info@madebymellc.com
END:VEVENT
BEGIN:VEVENT
DTSTART;TZID=America/Creston:20260201T130000
DTEND;TZID=America/Creston:20260201T153000
DTSTAMP:20260419T074121
CREATED:20260122T223043Z
LAST-MODIFIED:20260123T013533Z
UID:1994-1769950800-1769959800@madebymellc.com
SUMMARY:🌙 Get Ready to Ramadan – Kids Workshop
DESCRIPTION:A joyful journey of learning\, creativity\, and Ramadan spirit designed especially for little hearts 🤍 \nGet Ready to Ramadan is a special kids’ workshop at Made By Me Studio that helps children understand and love Ramadan through age-appropriate learning\, hands-on activities\, and joyful creativity. This experience blends Islamic learning with fun\, ensuring children feel excited\, confident\, and connected as Ramadan approaches. \n✨ This workshop is part of our Ramadan-themed kids programming and is thoughtfully designed to be engaging\, meaningful\, and fun. \n\n🌟 What Children Will Experience\n🧠 Learning about Ramadan in a simple\, child-friendly way📝 Ramadan worksheets and interactive activities🍪 Ramadan cookie workshop by Reham Cake Gallery🤍 A warm\, joyful environment that nurtures faith and creativity \n\n📅 Event Details\nDate: Sunday\, February 1\, 2026Time: 1:00 PM – 3:30 PMDuration: 2.5 hoursAge Group: Children ages 4–10 \n\n💰 Pricing\n🎟 $39 per child (Ramadan Edition)👨‍👩‍👧 Sibling discount available — please ask for the discount code \n⚠️ Limited spots available — pre-registration is required to secure your child’s place. \n\n📍 Location\nMade By Me Studio2687 151st Pl NE\, Suite 3CRedmond\, WA \n✨ A beautiful way to help your child welcome Ramadan with learning\, joy\, and creativity.
URL:https://madebymellc.com/event/%f0%9f%8c%99-get-ready-to-ramadan-kids-workshop/
LOCATION:Made By Me – Redmond\, 2687 151st Place NE\, Suite 3C\, Redmond\, WA\, 98052\, United States
CATEGORIES:Kids Workshpos,Workshops
END:VEVENT
BEGIN:VEVENT
DTSTART;TZID=America/Creston:20260201T170000
DTEND;TZID=America/Creston:20260201T210000
DTSTAMP:20260419T074121
CREATED:20260128T141909Z
LAST-MODIFIED:20260128T155413Z
UID:2147-1769965200-1769979600@madebymellc.com
SUMMARY:🌙 Made by Me at Ramadan Bazaar – MAPS Redmond
DESCRIPTION:Join us at the Ramadan Bazaar and visit the Made by Me booth for a special Ramadan experience ✨ \nMade by Me will be participating in the Ramadan Bazaar at MAPS Redmond\, where families can explore our curated Ramadan products and seasonal collections designed especially for children and families. \n\n🛍 What You’ll Find at Our Booth\n\n\n🌙 Ramadan Kits for kids & families \n\n\n🎨 Creative Ramadan products \n\n\n✨ Handcrafted & seasonal Made by Me items \n\n\nThis event listing highlights Made by Me’s participation only.The bazaar features multiple vendors\, food options\, and a family-friendly community atmosphere organized by MAPS. \n\n📅 Event Details\n🗓 Date: Sunday\, February 1\, 2026⏰ Time: 5:00 PM – 9:00 PM \n📍 Location: MAPS Redmond \n\n🎟 Admission\nThis is a public community bazaar.No ticket or registration is required to visit the Made by Me booth. \n⸻ \n✨ Come say hello\, explore our Ramadan collections\, and share the spirit of the season with us. \n📌 No registration required – just stop by!
URL:https://madebymellc.com/event/made-by-me-at-ramadan-bazaar-maps-redmond/
LOCATION:WA
CATEGORIES:Ramadan
END:VEVENT
BEGIN:VEVENT
DTSTART;TZID=America/Creston:20260208T130000
DTEND;TZID=America/Creston:20260208T153000
DTSTAMP:20260419T074121
CREATED:20260128T142722Z
LAST-MODIFIED:20260207T153940Z
UID:2149-1770555600-1770564600@madebymellc.com
SUMMARY:🌙 Ramadan Puppet Show & Craft
DESCRIPTION:For Kids (Ages 4–10) \nA joyful Ramadan workshop combining learning\, creativity\, and imagination ✨Children explore the spirit of Ramadan through hands-on crafts and an interactive puppet show in a warm\, nurturing environment. \n\n🌟 What Children Will Experience\n\n\n🕌 Fun\, age-appropriate Ramadan learning \n\n\n🎨 Paint & decorate a Ramadan wooden decoration \n\n\n🎭 Interactive Ramadan puppet show \n\n\n🤍 Faith-centered\, child-friendly atmosphere \n\n\n🏡 Take-home wooden Ramadan décor \n\n\n\n📅 Event Details\n\n\nDate: Sunday\, February 8 \n\n\nTime: 1:00 PM – 3:30 PM \n\n\nDuration: 2.5 hours \n\n\nAge Group: Children ages 4–10 \n\n\n\n📍 Location\n\n\nMade by Me Studio \n\n\n2687 151st Pl NE\, Suite 3C \n\n\nRedmond\, WA \n\n\n\n🎟 Ticket Information\nIncludes: \n\n\nRamadan learning session \n\n\nWooden Ramadan decoration craft (all materials included) \n\n\nInteractive puppet show \n\n\n💲 $39 per child \n⚠️ Limited spots available — advance registration required
URL:https://madebymellc.com/event/ramadan-puppet-show-craft/
LOCATION:Made By Me – Redmond\, 2687 151st Place NE\, Suite 3C\, Redmond\, WA\, 98052\, United States
CATEGORIES:Kids Workshpos,Ramadan,Workshops
ATTACH;FMTTYPE=image/jpeg:https://madebymellc.com/wp-content/uploads/2026/01/ramadan-puppet-show.jpg
END:VEVENT
BEGIN:VEVENT
DTSTART;TZID=America/Creston:20260215T130000
DTEND;TZID=America/Creston:20260215T153000
DTSTAMP:20260419T074121
CREATED:20260128T163928Z
LAST-MODIFIED:20260207T211539Z
UID:2165-1771160400-1771169400@madebymellc.com
SUMMARY:🌙 Ramadan Lantern Workshop & Story Time
DESCRIPTION:For Kids (Ages 4–10) \nA cozy and meaningful Ramadan experience where children learn\, create\, and connect through storytelling and hands-on creativity ✨This special workshop helps children understand the beauty of Ramadan in a warm\, engaging\, and age-appropriate way—combining learning\, crafting\, and imagination. \nChildren will enjoy a calm and joyful afternoon while creating a beautiful lantern they can proudly take home 🤍 \n\n🌟 What Children Will Experience\n\n🕌 Meaningful\, age-appropriate Ramadan learning\n🎨 Paint\, assemble & decorate a wooden Ramadan lantern\n💡 Light up the lantern & take it home\n📖 Cozy Ramadan story time session\n🤍 A joyful\, child-friendly\, faith-centered environment\n\n\n📅 Event Details\nDate: Sunday\, February 15Time: 1:00 PM – 3:30 PMDuration: 2.5 hoursAge Group: Children ages 4–10 \n\n📍 Location\nMade by Me Studio2687 151st Pl NE\, Suite 3CRedmond\, WA \n\n🎟 Ticket Information\nThis ticket includes: \n\n\nFull Ramadan learning session \n\n\nWooden lantern craft (all materials included) \n\n\nStory time focused on Ramadan values \n\n\nLight-up lantern to take home \n\n\n💲 Price: $39 per child \n⚠️ Limited spots available — advance registration required
URL:https://madebymellc.com/event/%f0%9f%8c%99-ramadan-lantern-workshop-story-time/
LOCATION:Made By Me – Redmond\, 2687 151st Place NE\, Suite 3C\, Redmond\, WA\, 98052\, United States
CATEGORIES:Kids Workshpos,Ramadan,Workshops
ATTACH;FMTTYPE=image/jpeg:https://madebymellc.com/wp-content/uploads/2026/01/ramadan-story-time.jpg
END:VEVENT
BEGIN:VEVENT
DTSTART;TZID=America/Creston:20260216T090000
DTEND;TZID=America/Creston:20260220T150000
DTSTAMP:20260419T074121
CREATED:20260113T120901Z
LAST-MODIFIED:20260129T211537Z
UID:1732-1771232400-1771599600@madebymellc.com
SUMMARY:🌙 Ramadan Camp at Made By Me Studio 🌙
DESCRIPTION:A meaningful and joyful Ramadan experience for children \nGive your child a beautiful opportunity to connect with the spirit of Ramadan in a nurturing\, creative\, and faith-centered environment 🤍 \nOur Ramadan Camp is thoughtfully designed to help children understand and love Ramadan through age-appropriate Islamic learning\, hands-on activities\, and creative expression. Each day follows a balanced routine that blends learning\, play\, and creativity—supporting children spiritually\, socially\, and emotionally throughout the week. \n\n📚 What Children Will Experience\n\n\n📖 Qur’an learning \n\n\n🔤 Qaida Noorania (tailored to each child’s level) \n\n\n🌙 Islamic studies & Ramadan concepts \n\n\n🎨 Creative\, Ramadan-inspired crafts \n\n\n🤝 Group activities that encourage teamwork and confidence \n\n\nAll activities are carefully planned for children ages 4–10\, ensuring a safe\, engaging\, and joyful experience for every child. \n\n📅 Camp Dates & Schedule (2026)\nDates: Monday – Friday | February 16 – February 20 \nFull Day: 9:00 AM – 3:00 PM \nHalf Day Options: \n\nMorning: 9:00 AM – 12:00 PM\nAfternoon: 12:00 PM – 3:00 PM\n\n👶 Age Group: 4–10 years \n\n🕘 Flexible Registration Options\nFamilies may choose the option that best fits their schedule: \n\n\n🌞 Single Day: $69 \n\n\n🌞 Full Week – Full Day (9:00 AM – 3:00 PM): $319 \n\n\n🌤 Full Week – Half Day (9:00 AM – 12:00 PM): $179 \n\n\n🌤 Full Week – Half Day (12:00 PM – 3:00 PM): $179 \n\n\n👨‍👩‍👧 Sibling discounts are available — please contact us for details. \n\n📍 Location\nMade By Me Studio2687 151st Pl NE\, Suite 3CRedmond\, WA \n✨ Limited spots available to ensure quality\, care\, and individual attention. \n👉 Register early and give your child a Ramadan filled with learning\, creativity\, and beautiful memories.
URL:https://madebymellc.com/event/%f0%9f%8c%99-ramadan-camp-at-made-by-me-studio-%f0%9f%8c%99/
LOCATION:Made By Me – Redmond\, 2687 151st Place NE\, Suite 3C\, Redmond\, WA\, 98052\, United States
CATEGORIES:Camps,Ramadan
ATTACH;FMTTYPE=image/jpeg:https://madebymellc.com/wp-content/uploads/2026/01/ramadan-camp.jpg
END:VEVENT
END:VCALENDAR