BEGIN:VCALENDAR
VERSION:2.0
PRODID:-//madebymellc.com - ECPv6.15.18//NONSGML v1.0//EN
CALSCALE:GREGORIAN
METHOD:PUBLISH
X-ORIGINAL-URL:https://madebymellc.com
X-WR-CALDESC:Events for madebymellc.com
REFRESH-INTERVAL;VALUE=DURATION:PT1H
X-Robots-Tag:noindex
X-PUBLISHED-TTL:PT1H
BEGIN:VTIMEZONE
TZID:America/Creston
BEGIN:STANDARD
TZOFFSETFROM:-0700
TZOFFSETTO:-0700
TZNAME:MST
DTSTART:20240101T000000
END:STANDARD
END:VTIMEZONE
BEGIN:VEVENT
DTSTART;TZID=America/Creston:20251214T150000
DTEND;TZID=America/Creston:20251214T170000
DTSTAMP:20260419T165242
CREATED:20251206T124153Z
LAST-MODIFIED:20251206T161702Z
UID:1171-1765724400-1765731600@madebymellc.com
SUMMARY:Girls Craft Workshop – Sunday\, December 14
DESCRIPTION:🎀 Girls Craft Workshop – December 14 Edition (3 PM – 5 PM)A fun\, creative\, and hands-on workshop designed especially for girls ages 11–17! Each session helps teens explore their artistic skills while building confidence and expressing themselves through guided craft activities 🎨💖 \n🗓 Activity for Sunday\, Dec 14 \n\n\n🧼 Soap Making Workshop  \n\n\n⏰ Time: 3 PM – 5 PM \n👧 Age Group: 11–17 years \n💵 Fee: $29 per participant \n📘 What’s included: \n\n\nAll craft materials & tools \n\n\nStep-by-step guided activities \n\n\nFun\, supportive & supervised environment \n\n\nProjects designed for teens to enjoy and take home \n\n\n✨ A perfect Sunday activity for creative girls who love hands-on art and trying new techniques!
URL:https://madebymellc.com/event/girls-craft-workshop-sunday-december-14/
LOCATION:Made By Me – Redmond\, 2687 151st Place NE\, Suite 3C\, Redmond\, WA\, 98052\, United States
CATEGORIES:Girls Workshops,Workshops
ATTACH;FMTTYPE=image/png:https://madebymellc.com/wp-content/uploads/2025/12/girls-workshop3.png
END:VEVENT
BEGIN:VEVENT
DTSTART;TZID=America/Creston:20251221T150000
DTEND;TZID=America/Creston:20251221T170000
DTSTAMP:20260419T165242
CREATED:20251206T142700Z
LAST-MODIFIED:20251206T161630Z
UID:1174-1766329200-1766336400@madebymellc.com
SUMMARY:Girls Craft Workshop – Sunday\, December 21
DESCRIPTION:Girls Craft Workshop – December 21 Edition (3 PM – 5 PM)A creative afternoon designed just for teens! Girls ages 11–17 will enjoy an inspiring and social workshop exploring fun crafts they can proudly take home 🎨✨ \n🗓 Activity for Sunday\, Dec 21 \n\n\n🧵 String Art (Teen-friendly patterns) \n\n\n⏰ Time: 3 PM – 5 PM \n👧 Age Group: 11–17 years \n💵 Fee: $29 per participant \n📘 What’s included: \n\n\nComplete craft materials \n\n\nGuided creative instruction \n\n\nSafe\, friendly environment for teens \n\n\nTake-home DIY projects \n\n\n💖 A perfect way for girls to relax\, socialize\, and explore new art techniques on a fun Sunday!
URL:https://madebymellc.com/event/girls-craft-workshop-sunday-december-21/
LOCATION:Made By Me – Redmond\, 2687 151st Place NE\, Suite 3C\, Redmond\, WA\, 98052\, United States
CATEGORIES:Girls Workshops,Workshops
ATTACH;FMTTYPE=image/png:https://madebymellc.com/wp-content/uploads/2025/12/girls-workshop2.png
END:VEVENT
BEGIN:VEVENT
DTSTART;TZID=America/Creston:20251228T150000
DTEND;TZID=America/Creston:20251228T170000
DTSTAMP:20260419T165242
CREATED:20251206T144119Z
LAST-MODIFIED:20251206T181755Z
UID:1179-1766934000-1766941200@madebymellc.com
SUMMARY:Girls Craft Workshop – Sunday\, December 28
DESCRIPTION:🎀 Girls Craft Workshop – December 28 Edition (3 PM – 5 PM)The final girls’ workshop of December — full of creativity\, color\, and hands-on fun tailored for teens ages 11–17! 🌈🎨 \n🗓 Activity for Sunday\, Dec 28 \n\n\n🎨 3D Texture Painting on Canvas \n\n\n⏰ Time: 3 PM – 5 PM \n👧 Age Group: 11–17 years \n💵 Fee: $29 per participant \n📘 What’s included: \n\n\nAll art materials provided \n\n\nGuided\, creative teen-focused workshop \n\n\nA supportive environment to explore new art styles \n\n\nBeautiful creations to take home \n\n\n✨ An unforgettable December activity for teens who love creativity and self-expression!
URL:https://madebymellc.com/event/girls-craft-workshop-sunday-december-28/
LOCATION:Made By Me – Redmond\, 2687 151st Place NE\, Suite 3C\, Redmond\, WA\, 98052\, United States
CATEGORIES:Girls Workshops,Workshops
ATTACH;FMTTYPE=image/png:https://madebymellc.com/wp-content/uploads/2025/12/girls-workshop1.png
END:VEVENT
END:VCALENDAR