BEGIN:VCALENDAR
VERSION:2.0
PRODID:-//madebymellc.com - ECPv6.15.18//NONSGML v1.0//EN
CALSCALE:GREGORIAN
METHOD:PUBLISH
X-ORIGINAL-URL:https://madebymellc.com
X-WR-CALDESC:Events for madebymellc.com
REFRESH-INTERVAL;VALUE=DURATION:PT1H
X-Robots-Tag:noindex
X-PUBLISHED-TTL:PT1H
BEGIN:VTIMEZONE
TZID:America/Creston
BEGIN:STANDARD
TZOFFSETFROM:-0700
TZOFFSETTO:-0700
TZNAME:MST
DTSTART:20240101T000000
END:STANDARD
END:VTIMEZONE
BEGIN:VEVENT
DTSTART;TZID=America/Creston:20251221T180000
DTEND;TZID=America/Creston:20251228T200000
DTSTAMP:20260419T182911
CREATED:20251121T022242Z
LAST-MODIFIED:20251206T115847Z
UID:670-1766340000-1766952000@madebymellc.com
SUMMARY:Family Craft Workshop – December
DESCRIPTION:🌟 Family Workshop – December Edition (6 PM – 8 PM)Enjoy a creative\, cozy Sunday evening designed for both adults and children! Our Family Workshop brings parents and kids together for fun\, inspiring craft sessions that spark imagination\, bonding\, and creativity 🎨✨ \nWhile parents create their craft\, children aged 4–10 enjoy a safe and supervised Sensory Play session filled with engaging\, hands-on activities that support creativity\, coordination\, and exploration 🧩🌈 \n\n🗓 Workshop Dates & Activities (2 Sundays):\n\n\nDec 21: Cappuccino Candle 🕯️☕ \n\n\nDec 28: String Art 🧵✨ \n\n\n\n⏰ Time: \n6 PM – 8 PM \n💵 Price: $39 per adult (covers all three Sundays) \n👨‍👩‍👧 Child Hosting: \n\n\nFirst child free (includes 2-hour Sensory Play session) \n\n\nAdditional children: $10 eachChildren enjoy creative\, stimulating activities while parents craft comfortably. \n\n\n\n📘 What’s included:\n\n\nHands-on family-friendly craft workshops \n\n\nAll craft materials & tools provided 🎨 \n\n\nCoffee & refreshments ☕ \n\n\nStructured Sensory Play for children during workshop \n\n\nSafe\, welcoming\, and inspiring environment for all \n\n\n\n✨ A perfect way for families to relax\, create\, and connect while children explore safely and joyfully.🎟 One adult ticket covers the 2 Sundays and includes free hosting for one child; additional children $10.
URL:https://madebymellc.com/event/family-craft-workshop-december/
LOCATION:Made By Me – Redmond\, 2687 151st Place NE\, Suite 3C\, Redmond\, WA\, 98052\, United States
CATEGORIES:Famliy Workshops,Workshops
ATTACH;FMTTYPE=image/png:https://madebymellc.com/wp-content/uploads/2025/11/family.png
END:VEVENT
END:VCALENDAR