BEGIN:VCALENDAR
VERSION:2.0
PRODID:-//madebymellc.com - ECPv6.15.18//NONSGML v1.0//EN
CALSCALE:GREGORIAN
METHOD:PUBLISH
X-WR-CALNAME:madebymellc.com
X-ORIGINAL-URL:https://madebymellc.com
X-WR-CALDESC:Events for madebymellc.com
REFRESH-INTERVAL;VALUE=DURATION:PT1H
X-Robots-Tag:noindex
X-PUBLISHED-TTL:PT1H
BEGIN:VTIMEZONE
TZID:America/Creston
BEGIN:STANDARD
TZOFFSETFROM:-0700
TZOFFSETTO:-0700
TZNAME:MST
DTSTART:20250101T000000
END:STANDARD
END:VTIMEZONE
BEGIN:VEVENT
DTSTART;TZID=America/Creston:20260111T120000
DTEND;TZID=America/Creston:20260111T140000
DTSTAMP:20260419T150543
CREATED:20251215T000906Z
LAST-MODIFIED:20251216T224114Z
UID:1247-1768132800-1768140000@madebymellc.com
SUMMARY:Punch Needle Workshop – Ramadan Edition (Girls 10+)
DESCRIPTION:A cozy\, creative workshop designed especially for girls to explore the art of punch needle embroidery while creating a beautiful Ramadan-themed piece ✨🧵This session encourages creativity\, focus\, and self-expression in a warm\, supportive environment. \n\n🗓 Event Details\n📅 Date: Sunday\, January 11⏰ Time: 12:00 PM – 2:00 PM👧 Age Group: Girls 10 years and older \n\n🎨 Workshop Includes\n✔️ Introduction to punch needle art✔️ Ramadan-themed design project 🌙✨✔️ All materials provided✔️ Guided\, step-by-step instruction✔️ Safe\, calm\, and inspiring environment \n\n👩‍🎨 Workshop Led By\nAsli — Founder of Happy & Authentic \n\n💵 Pricing\nWorkshop Fee: $45 per participant \n⚠️ Limited spots available – pre-registration required
URL:https://madebymellc.com/event/punch-needle-workshop-ramadan-edition-girls-10/
LOCATION:Made By Me – Redmond\, 2687 151st Place NE\, Suite 3C\, Redmond\, WA\, 98052\, United States
CATEGORIES:Girls Workshops,Workshops
ATTACH;FMTTYPE=image/png:https://madebymellc.com/wp-content/uploads/2025/12/punch-needle.png
END:VEVENT
BEGIN:VEVENT
DTSTART;TZID=America/Creston:20260118T130000
DTEND;TZID=America/Creston:20260118T160000
DTSTAMP:20260419T150543
CREATED:20251222T220538Z
LAST-MODIFIED:20260103T022351Z
UID:1446-1768741200-1768752000@madebymellc.com
SUMMARY:🌙✨ Ramadan Starts in Little Hearts ✨🌙
DESCRIPTION:A Special Ramadan Preparation Workshop for Kids \nRamadan is coming—and we’re helping children welcome it with love\, understanding\, and excitement 💛This joyful\, meaningful workshop introduces kids to the beauty of Ramadan through storytelling\, discussion\, and hands-on creativity. \nAt Made By Me Studio\, we believe that loving Ramadan starts with understanding it—in a way that feels fun\, warm\, and age-appropriate ✨ \n\n🌟 What Your Child Will Experience\n🌙 Interactive Ramadan Session\nChildren will learn: \n\n\nThe virtues and beauty of Ramadan \n\n\nThe best deeds children can do during Ramadan \n\n\nHow to prepare their hearts for this blessed month \n\n\nAll explained in a gentle\, engaging way that connects faith to daily life 💫 \n🎨 Creative Clay Workshop\n\n\nCreate Ramadan-themed decorations using clay \n\n\nPaint and decorate their creations \n\n\nTake their handmade Ramadan décor home 🖐️✨ \n\n\n\n🗓 Event Details\n\n\n📅 Date: Sunday\, January 18 \n\n\n⏰ Time: 1:00 PM – 4:00 PM \n\n\n👧🧒 Age Group: 4 – 10 years \n\n\n📍 Location: Made By Me Studio2687 151st Place NE\, Suite 3C\, Redmond\, WA \n\n\n🎟 Limited spots available – pre-registration required
URL:https://madebymellc.com/event/%f0%9f%8c%99%e2%9c%a8-ramadan-starts-in-little-hearts-%e2%9c%a8%f0%9f%8c%99/
LOCATION:Made By Me – Redmond\, 2687 151st Place NE\, Suite 3C\, Redmond\, WA\, 98052\, United States
CATEGORIES:Kids Workshpos,Workshops
ATTACH;FMTTYPE=image/png:https://madebymellc.com/wp-content/uploads/2025/12/ramadan-in-little-hearts.png
END:VEVENT
BEGIN:VEVENT
DTSTART;TZID=America/Creston:20260118T170000
DTEND;TZID=America/Creston:20260118T190000
DTSTAMP:20260419T150543
CREATED:20251224T230748Z
LAST-MODIFIED:20251224T233542Z
UID:1496-1768755600-1768762800@madebymellc.com
SUMMARY:🌙✨ String Art for Ramadan – Girls Workshop ✨🌙
DESCRIPTION:Create it with your hands. Decorate it with heart 💛 \nJoin us for a cozy and inspiring evening designed especially for girls as we prepare for Ramadan through creativity and mindful connection. This hands-on workshop allows participants to design and create a beautiful Ramadan-themed string art décor to take home and display with pride 🌙✨ \nA perfect balance of creativity\, relaxation\, and meaningful preparation for the holy month. \n\n👩‍🎨 Workshop Details\n📅 Date: January 18⏰ Time: 5:00 – 7:00 PM👩‍🎨 Ages: Girls 10+☕ Free drink included \n\n🌟 What’s Included\n\n\n🎨 Guided string art workshop (Ramadan theme) \n\n\n🧵 All materials provided \n\n\n🌙 A calm\, welcoming\, and creative environment \n\n\n☕ Complimentary drink \n\n\n✨ Take-home Ramadan décor piece \n\n\n\n✨ Relax • Create • Get Ramadan-Ready🎟️ Spots are limited — advance booking recommended.
URL:https://madebymellc.com/event/%f0%9f%8c%99%e2%9c%a8-string-art-for-ramadan-girls-workshop-%e2%9c%a8%f0%9f%8c%99/
LOCATION:Made By Me – Redmond\, 2687 151st Place NE\, Suite 3C\, Redmond\, WA\, 98052\, United States
CATEGORIES:Girls Workshops,Workshops
ATTACH;FMTTYPE=image/png:https://madebymellc.com/wp-content/uploads/2025/12/string-art-for-ramadan.png
END:VEVENT
BEGIN:VEVENT
DTSTART;TZID=America/Creston:20260125T130000
DTEND;TZID=America/Creston:20260125T190000
DTSTAMP:20260419T150543
CREATED:20251224T225831Z
LAST-MODIFIED:20251225T000018Z
UID:1491-1769346000-1769367600@madebymellc.com
SUMMARY:🌙✨ Light Up Ramadan – Lantern Craft Workshop ✨🌙
DESCRIPTION:Paint it. Build it. Light it. Feel Ramadan come alive 💛 \nJoin us for a beautiful\, hands-on Ramadan experience where creativity meets meaning. This special workshop helps participants connect with the spirit of Ramadan through art\, learning\, and joyful creation. \nWe’re offering two sessions on the same day\, designed for different age groups\, each with its own ticket. \n\n👧🧒 Kids Workshop (Ages 4–10)\n⏰ 1:00 – 4:00 PM \nA fun\, interactive workshop that introduces children to Ramadan in an engaging\, age-appropriate way. \nKids will enjoy: \n\n\n🌙 Simple Ramadan learning session \n\n\n🎨 Painting and assembling a wooden Ramadan lantern \n\n\n💡 Lighting their lantern and taking it home \n\n\n🧠 Creativity\, confidence\, and joyful learning \n\n\nA safe\, supervised\, and welcoming environment designed just for kids. \n\n👩‍🎨 Girls & Ladies Workshop (Ages 10+)\n⏰ 5:00 – 7:00 PM \nA cozy\, creative evening workshop for girls and women to relax\, create\, and connect with the Ramadan spirit. \nIncludes: \n\n\n🎨 Painting and assembling a wooden Ramadan lantern \n\n\n💡 Take-home lantern \n\n\n☕ Complimentary drink \n\n\n🌙 Calm\, Ramadan-inspired atmosphere \n\n\nPerfect for bonding\, creativity\, and mindful preparation for Ramadan. \n\n✨ Create • Learn • Celebrate Ramadan Together🎟️ Spots are limited — early booking recommended.
URL:https://madebymellc.com/event/%f0%9f%8c%99%e2%9c%a8-light-up-ramadan-lantern-craft-workshop-%e2%9c%a8%f0%9f%8c%99/
LOCATION:Made By Me – Redmond\, 2687 151st Place NE\, Suite 3C\, Redmond\, WA\, 98052\, United States
CATEGORIES:Girls Workshops,Kids Workshpos,Workshops
ATTACH;FMTTYPE=image/png:https://madebymellc.com/wp-content/uploads/2025/12/lantern-craft.png
END:VEVENT
END:VCALENDAR