BEGIN:VCALENDAR
VERSION:2.0
PRODID:-//madebymellc.com - ECPv6.15.18//NONSGML v1.0//EN
CALSCALE:GREGORIAN
METHOD:PUBLISH
X-WR-CALNAME:madebymellc.com
X-ORIGINAL-URL:https://madebymellc.com
X-WR-CALDESC:Events for madebymellc.com
REFRESH-INTERVAL;VALUE=DURATION:PT1H
X-Robots-Tag:noindex
X-PUBLISHED-TTL:PT1H
BEGIN:VTIMEZONE
TZID:America/Creston
BEGIN:STANDARD
TZOFFSETFROM:-0700
TZOFFSETTO:-0700
TZNAME:MST
DTSTART:20240101T000000
END:STANDARD
END:VTIMEZONE
BEGIN:VEVENT
DTSTART;TZID=America/Creston:20251208T110000
DTEND;TZID=America/Creston:20251208T140000
DTSTAMP:20260419T162631
CREATED:20251118T003804Z
LAST-MODIFIED:20251205T164614Z
UID:511-1765191600-1765202400@madebymellc.com
SUMMARY:Me Time for Women – December 8
DESCRIPTION:🌸 Welcome to Me Time – A relaxing and enriching program for women (18+)Join us on Monday\, December 8 for a peaceful\, uplifting gathering that blends spirituality\, creativity\, and mindful connection with other women. \n🕌 Program Includes: \n\n\n📖 Quran circle & Tajweed session \n\n\n📚 Islamic studies \n\n\n🎨 Craft workshop \n\n\n☕ Coffee & snacks included \n\n\n🤝 A warm\, supportive environment just for women \n\n\n🎨 Craft Workshop for December 8: \n\n\nCappuccino Candle Workshop ☕🕯️ \n\n\n👩‍🧕 Age Requirement: Women 18+💵 Price: $39 per session (includes drink\, snacks & materials) \n👶 Child Hosting Option: \n\n\n1 child may attend free \n\n\nAdditional children: $10 each (3 hours of supervised sensory play)The perfect setup for mothers who want to relax while their child is safely supervised. \n\n\n📅 Event Date: \n\n\nMonday\, December 8 \n\n\n⚠️ Pre-booking is required as places are limited. \n💖 Join us for spiritual connection\, creativity\, and mindful relaxation.
URL:https://madebymellc.com/event/me-time-for-women-december-8/
LOCATION:Made By Me – Redmond\, 2687 151st Place NE\, Suite 3C\, Redmond\, WA\, 98052\, United States
CATEGORIES:Me Time Workshops,Workshops
ATTACH;FMTTYPE=image/png:https://madebymellc.com/wp-content/uploads/2025/11/9-2.png
END:VEVENT
BEGIN:VEVENT
DTSTART;TZID=America/Creston:20251214T120000
DTEND;TZID=America/Creston:20251214T140000
DTSTAMP:20260419T162631
CREATED:20251121T020844Z
LAST-MODIFIED:20251206T161258Z
UID:667-1765713600-1765720800@madebymellc.com
SUMMARY:Kids Craft Workshop – Sunday\, December 14
DESCRIPTION:🌟 Kids Craft Workshop – December Edition (Sunday\, December 14)Give your child an inspiring and engaging weekend activity! This December workshop focuses on creativity\, sensory learning\, and fun hands-on experiences 🎨✨ \n🗓 Activities for Sunday\, Dec 14: \n\n\n🕯️ Sand Art Candle Making (12 PM – 2 PM) \n\n\n⏰ Session Times: \n\n\n12 PM – 2 PM \n\n\n💵 Workshop Fee: $29 per child👶 Age Group: 4 – 10 years \n📘 What’s included: \n\n\nHands-on materials & guided crafting 🖌️ \n\n\nSafe\, supervised environment 🌈 \n\n\nCreative activities that build imagination and confidence ✨ \n\n\nEncouragement of teamwork and expression 🤝 \n\n\n🧡 A wonderful way for kids to explore new skills and bring home beautiful handmade creations.
URL:https://madebymellc.com/event/kids-craft-workshop-sunday-december-14/
LOCATION:Made By Me – Redmond\, 2687 151st Place NE\, Suite 3C\, Redmond\, WA\, 98052\, United States
CATEGORIES:Kids Workshpos,Workshops
ATTACH;FMTTYPE=image/png:https://madebymellc.com/wp-content/uploads/2025/11/12.png
END:VEVENT
BEGIN:VEVENT
DTSTART;TZID=America/Creston:20251214T150000
DTEND;TZID=America/Creston:20251214T170000
DTSTAMP:20260419T162631
CREATED:20251206T124153Z
LAST-MODIFIED:20251206T161702Z
UID:1171-1765724400-1765731600@madebymellc.com
SUMMARY:Girls Craft Workshop – Sunday\, December 14
DESCRIPTION:🎀 Girls Craft Workshop – December 14 Edition (3 PM – 5 PM)A fun\, creative\, and hands-on workshop designed especially for girls ages 11–17! Each session helps teens explore their artistic skills while building confidence and expressing themselves through guided craft activities 🎨💖 \n🗓 Activity for Sunday\, Dec 14 \n\n\n🧼 Soap Making Workshop  \n\n\n⏰ Time: 3 PM – 5 PM \n👧 Age Group: 11–17 years \n💵 Fee: $29 per participant \n📘 What’s included: \n\n\nAll craft materials & tools \n\n\nStep-by-step guided activities \n\n\nFun\, supportive & supervised environment \n\n\nProjects designed for teens to enjoy and take home \n\n\n✨ A perfect Sunday activity for creative girls who love hands-on art and trying new techniques!
URL:https://madebymellc.com/event/girls-craft-workshop-sunday-december-14/
LOCATION:Made By Me – Redmond\, 2687 151st Place NE\, Suite 3C\, Redmond\, WA\, 98052\, United States
CATEGORIES:Girls Workshops,Workshops
ATTACH;FMTTYPE=image/png:https://madebymellc.com/wp-content/uploads/2025/12/girls-workshop3.png
END:VEVENT
BEGIN:VEVENT
DTSTART;TZID=America/Creston:20251215T110000
DTEND;TZID=America/Creston:20251215T140000
DTSTAMP:20260419T162631
CREATED:20251201T134844Z
LAST-MODIFIED:20251205T163448Z
UID:1060-1765796400-1765807200@madebymellc.com
SUMMARY:Me Time for Women – December 15
DESCRIPTION:🌸 Welcome to Me Time – A relaxing and enriching program for women (18+)Join us on Monday\, December 15 for a peaceful\, uplifting experience combining spirituality\, creativity\, and mindful connection. \n🕌 Program Includes: \n\n\n📖 Quran circle & Tajweed session \n\n\n📚 Islamic studies \n\n\n🎨 Craft workshop \n\n\n☕ Coffee & snacks included \n\n\n🤝 A warm\, supportive environment just for women \n\n\n🎨 Craft Workshop for December 15: \n\n\nMosaic Mirror Workshop 🪞🎨 \n\n\n👩‍🧕 Age Requirement: Women 18+💵 Price: $39 per session (includes drink\, snacks & materials) \n👶 Child Hosting Option: \n\n\n1 child may attend free \n\n\nAdditional children: $10 each (3 hours of supervised sensory play) \n\n\n📅 Event Date: \n\n\nMonday\, December 15 \n\n\n⚠️ Pre-booking is required as spaces are limited. \n💖 Enjoy spiritual growth\, creativity\, and peaceful connection in a women-only setting.
URL:https://madebymellc.com/event/me-time-for-women-december-15/
LOCATION:Made By Me – Redmond\, 2687 151st Place NE\, Suite 3C\, Redmond\, WA\, 98052\, United States
CATEGORIES:Me Time Workshops,Workshops
ATTACH;FMTTYPE=image/png:https://madebymellc.com/wp-content/uploads/2025/11/8-1.png
END:VEVENT
BEGIN:VEVENT
DTSTART;TZID=America/Creston:20251221T120000
DTEND;TZID=America/Creston:20251221T140000
DTSTAMP:20260419T162631
CREATED:20251125T142953Z
LAST-MODIFIED:20251220T235235Z
UID:1006-1766318400-1766325600@madebymellc.com
SUMMARY:Kids Craft Workshop – Sunday\, December 21
DESCRIPTION:🌟 Kids Craft Workshop – December Edition (Sunday\, December 21)\nGive your child a fun\, sensory-rich creative experience this Sunday! These workshops help develop imagination\, fine motor skills\, problem-solving\, and confidence through exciting hands-on activities 🎨✨ \n🗓 Activities for Sunday\, Dec 21:\n🧪 Slime Workshop (12 PM – 2 PM)\nA joyful sensory experience where kids make their own colorful\, stretchy slime using safe materials. \n\n⏰ Session Times:\n\n\n12 PM – 2 PM \n\n\n💵 Workshop Fee: $29 per child (per session)👶 Age Group: 4 – 10 years \n\n📘 What’s included:\n\n\nHands-on craft materials and guided supervision 🖌️ \n\n\nSafe\, fun\, and child-friendly environment 🌈 \n\n\nActivities that spark creativity\, sensory exploration\, and self-expression ✨ \n\n\nEncouragement of teamwork and confidence building 🤝 \n\n\n🧡 A wonderful weekend activity where kids learn new skills\, explore creativity\, and bring home unique handmade creations.
URL:https://madebymellc.com/event/kids-craft-workshop-sunday-december-21/
LOCATION:Made By Me – Redmond\, 2687 151st Place NE\, Suite 3C\, Redmond\, WA\, 98052\, United States
CATEGORIES:Kids Workshpos,Workshops
ATTACH;FMTTYPE=image/png:https://madebymellc.com/wp-content/uploads/2025/11/13-1.png
END:VEVENT
BEGIN:VEVENT
DTSTART;TZID=America/Creston:20251221T150000
DTEND;TZID=America/Creston:20251221T170000
DTSTAMP:20260419T162631
CREATED:20251206T142700Z
LAST-MODIFIED:20251206T161630Z
UID:1174-1766329200-1766336400@madebymellc.com
SUMMARY:Girls Craft Workshop – Sunday\, December 21
DESCRIPTION:Girls Craft Workshop – December 21 Edition (3 PM – 5 PM)A creative afternoon designed just for teens! Girls ages 11–17 will enjoy an inspiring and social workshop exploring fun crafts they can proudly take home 🎨✨ \n🗓 Activity for Sunday\, Dec 21 \n\n\n🧵 String Art (Teen-friendly patterns) \n\n\n⏰ Time: 3 PM – 5 PM \n👧 Age Group: 11–17 years \n💵 Fee: $29 per participant \n📘 What’s included: \n\n\nComplete craft materials \n\n\nGuided creative instruction \n\n\nSafe\, friendly environment for teens \n\n\nTake-home DIY projects \n\n\n💖 A perfect way for girls to relax\, socialize\, and explore new art techniques on a fun Sunday!
URL:https://madebymellc.com/event/girls-craft-workshop-sunday-december-21/
LOCATION:Made By Me – Redmond\, 2687 151st Place NE\, Suite 3C\, Redmond\, WA\, 98052\, United States
CATEGORIES:Girls Workshops,Workshops
ATTACH;FMTTYPE=image/png:https://madebymellc.com/wp-content/uploads/2025/12/girls-workshop2.png
END:VEVENT
BEGIN:VEVENT
DTSTART;TZID=America/Creston:20251221T180000
DTEND;TZID=America/Creston:20251228T200000
DTSTAMP:20260419T162631
CREATED:20251121T022242Z
LAST-MODIFIED:20251206T115847Z
UID:670-1766340000-1766952000@madebymellc.com
SUMMARY:Family Craft Workshop – December
DESCRIPTION:🌟 Family Workshop – December Edition (6 PM – 8 PM)Enjoy a creative\, cozy Sunday evening designed for both adults and children! Our Family Workshop brings parents and kids together for fun\, inspiring craft sessions that spark imagination\, bonding\, and creativity 🎨✨ \nWhile parents create their craft\, children aged 4–10 enjoy a safe and supervised Sensory Play session filled with engaging\, hands-on activities that support creativity\, coordination\, and exploration 🧩🌈 \n\n🗓 Workshop Dates & Activities (2 Sundays):\n\n\nDec 21: Cappuccino Candle 🕯️☕ \n\n\nDec 28: String Art 🧵✨ \n\n\n\n⏰ Time: \n6 PM – 8 PM \n💵 Price: $39 per adult (covers all three Sundays) \n👨‍👩‍👧 Child Hosting: \n\n\nFirst child free (includes 2-hour Sensory Play session) \n\n\nAdditional children: $10 eachChildren enjoy creative\, stimulating activities while parents craft comfortably. \n\n\n\n📘 What’s included:\n\n\nHands-on family-friendly craft workshops \n\n\nAll craft materials & tools provided 🎨 \n\n\nCoffee & refreshments ☕ \n\n\nStructured Sensory Play for children during workshop \n\n\nSafe\, welcoming\, and inspiring environment for all \n\n\n\n✨ A perfect way for families to relax\, create\, and connect while children explore safely and joyfully.🎟 One adult ticket covers the 2 Sundays and includes free hosting for one child; additional children $10.
URL:https://madebymellc.com/event/family-craft-workshop-december/
LOCATION:Made By Me – Redmond\, 2687 151st Place NE\, Suite 3C\, Redmond\, WA\, 98052\, United States
CATEGORIES:Famliy Workshops,Workshops
ATTACH;FMTTYPE=image/png:https://madebymellc.com/wp-content/uploads/2025/11/family.png
END:VEVENT
BEGIN:VEVENT
DTSTART;TZID=America/Creston:20251228T120000
DTEND;TZID=America/Creston:20251228T140000
DTSTAMP:20260419T162631
CREATED:20251202T152556Z
LAST-MODIFIED:20251206T144807Z
UID:1086-1766923200-1766930400@madebymellc.com
SUMMARY:Kids Craft Workshop – Sunday\, December 28
DESCRIPTION:Kids Craft Workshop – December Edition (Sunday\, December 28)\nGive your child an inspiring and imaginative artistic experience! These creative workshops help children express themselves while building fine motor skills and artistic confidence  \n Activities for Sunday\, Dec 28:\n Fabric Backpack Painting (12 PM – 2 PM)\nKids design and paint their own canvas mini backpack — a fun and expressive wearable art activity! \n\n Session Times:\n\n\n12 PM – 2 PM \n\n\n Workshop Fee: $29 per child (per session) Age Group: 4 – 10 years \n\n What’s included:\n\n\nHands-on craft materials and guided supervision  \n\n\nSafe\, creative\, and child-friendly environment  \n\n\nActivities fostering creativity\, focus\, and self-expression  \n\n\nEncouragement of teamwork\, patience\, and confidence building  \n\n\n A beautiful way for kids to end the month with creativity and take home artwork they’ll be proud of.
URL:https://madebymellc.com/event/kids-craft-workshop-sunday-december-28/
LOCATION:Made By Me – Redmond\, 2687 151st Place NE\, Suite 3C\, Redmond\, WA\, 98052\, United States
CATEGORIES:Kids Workshpos,Workshops
ATTACH;FMTTYPE=image/png:https://madebymellc.com/wp-content/uploads/2025/11/14-1.png
END:VEVENT
BEGIN:VEVENT
DTSTART;TZID=America/Creston:20251228T150000
DTEND;TZID=America/Creston:20251228T170000
DTSTAMP:20260419T162631
CREATED:20251206T144119Z
LAST-MODIFIED:20251206T181755Z
UID:1179-1766934000-1766941200@madebymellc.com
SUMMARY:Girls Craft Workshop – Sunday\, December 28
DESCRIPTION:🎀 Girls Craft Workshop – December 28 Edition (3 PM – 5 PM)The final girls’ workshop of December — full of creativity\, color\, and hands-on fun tailored for teens ages 11–17! 🌈🎨 \n🗓 Activity for Sunday\, Dec 28 \n\n\n🎨 3D Texture Painting on Canvas \n\n\n⏰ Time: 3 PM – 5 PM \n👧 Age Group: 11–17 years \n💵 Fee: $29 per participant \n📘 What’s included: \n\n\nAll art materials provided \n\n\nGuided\, creative teen-focused workshop \n\n\nA supportive environment to explore new art styles \n\n\nBeautiful creations to take home \n\n\n✨ An unforgettable December activity for teens who love creativity and self-expression!
URL:https://madebymellc.com/event/girls-craft-workshop-sunday-december-28/
LOCATION:Made By Me – Redmond\, 2687 151st Place NE\, Suite 3C\, Redmond\, WA\, 98052\, United States
CATEGORIES:Girls Workshops,Workshops
ATTACH;FMTTYPE=image/png:https://madebymellc.com/wp-content/uploads/2025/12/girls-workshop1.png
END:VEVENT
END:VCALENDAR