BEGIN:VCALENDAR
VERSION:2.0
PRODID:-//madebymellc.com - ECPv6.15.18//NONSGML v1.0//EN
CALSCALE:GREGORIAN
METHOD:PUBLISH
X-ORIGINAL-URL:https://madebymellc.com
X-WR-CALDESC:Events for madebymellc.com
REFRESH-INTERVAL;VALUE=DURATION:PT1H
X-Robots-Tag:noindex
X-PUBLISHED-TTL:PT1H
BEGIN:VTIMEZONE
TZID:America/Creston
BEGIN:STANDARD
TZOFFSETFROM:-0700
TZOFFSETTO:-0700
TZNAME:MST
DTSTART:20240101T000000
END:STANDARD
END:VTIMEZONE
BEGIN:VEVENT
DTSTART;TZID=America/Creston:20260406T090000
DTEND;TZID=America/Creston:20260410T150000
DTSTAMP:20260419T061245
CREATED:20260325T045125Z
LAST-MODIFIED:20260328T114518Z
UID:2996-1775466000-1775833200@madebymellc.com
SUMMARY:🌸 Spring Camp at Made By Me Studio 🌸
DESCRIPTION:A full-day spring camp filled with learning\, creativity\, and fun 🤍 \n🌼 A Meaningful Spring Experience for Your Child\nOur Spring Camp is designed to give children a joyful and enriching break—combining faith-based learning\, creativity\, and social interaction in a warm and welcoming environment. \nIt’s the perfect balance of education\, play\, and personal growth 🌱 \n\n🌟 What Children Will Experience\n\n\n📖 Qur’an & Qaida Noorania learning \n\n\n🕌 Islamic studies in a fun\, age-appropriate way \n\n\n\n\n🎨 Creative crafts & hands-on activities \n\n\n\n\n🤝 Group games & social interaction \n\n\n\n\n🌈 A balanced routine of learning and fun \n\n\nAll activities are thoughtfully planned for children ages 4–10\, ensuring a safe and engaging experience ✨ \n\n📅 Camp Dates & Schedule\nDates: April 6 – April 10 (5 Days)Days: Monday – Friday \n⏰ Time Options\n🟢 Full Day Camp\n\n\n\n\n\nTime: 9:00 AM – 3:00 PM\n\n\n\n\n\n🟣 Half Day Camp (Two Options)\n\n\n\n\n\n\nMorning Half Day: 9:00 AM – 12:00 PM \n\n\nAfternoon Half Day: 12:00 PM – 3:00 PM \n\n\n\n\n\n\n\n👧👦 Age Group\nChildren ages 4–10 years \n\n🎟 Registration Options & Pricing\n💛 Best Value: Full Week = only $63.80/day \nFamilies can choose the option that best fits their schedule: \n🌞 Full Day Tickets\n\n\nSingle Day Ticket – $69 \n(~$69/day)\n\n\n\n✨ Full Week Ticket (April 6–10) – $319 \n(~$63.80/day – Best Value)\n\n🌤 Half Day Tickets (Full Camp – 5 Days)\nChoose one time slot for the full week: \n\n\nHalf Day – Morning (9:00 AM – 12:00 PM) – $169 \n(~$33.80/day)\n\n\n\nHalf Day – Afternoon (12:00 PM – 3:00 PM) – $169 \n(~$33.80/day)\n\n\n📍 Location\nMade By Me Studio2687 151st Pl NE\, Suite 3CRedmond\, WA \n\n🤍 Registration Notes\n\n\n⚠️ Limited spots available to keep groups small and engaging \n\n\n📩 Advance registration is required \n\n\n👨‍👩‍👧 Sibling discounts available — contact us for details \n\n\nLet your child enjoy a spring break filled with learning\, creativity\, friendships\, and faith-filled fun 🌸 \n👉 Register now — spots are limited! \n 
URL:https://madebymellc.com/event/spring-camp-at-made-by-me-studio/
LOCATION:Made By Me – Redmond\, 2687 151st Place NE\, Suite 3C\, Redmond\, WA\, 98052\, United States
CATEGORIES:Camps
ATTACH;FMTTYPE=image/jpeg:https://madebymellc.com/wp-content/uploads/2026/03/spring-camp.jpg
END:VEVENT
BEGIN:VEVENT
DTSTART;TZID=America/Creston:20260310T090000
DTEND;TZID=America/Creston:20260319T150000
DTSTAMP:20260419T061245
CREATED:20260130T004844Z
LAST-MODIFIED:20260304T002549Z
UID:2237-1773133200-1773932400@madebymellc.com
SUMMARY:🎉🌙 Eid Camp at Made by Me Studio 🌙🎉
DESCRIPTION:8 Days of Fun\, Faith & Celebration!\nGet ready for Eid joy times ten! 🥳 \nOur Eid Camp is a celebration-filled experience designed to keep children engaged\, happy\, and connected to Islamic values through creativity\, play\, and meaningful learning. \nThis special camp helps children celebrate Eid in a fun\, positive\, and faith-centered environment—packed with activities they’ll look forward to every day 🤍 \n\n🌟 What Children Will Experience\n\n\n🎨 Eid-themed arts & crafts \n\n\n🎉 Fun group games and interactive activities \n\n\n🕌 Islamic values through joyful\, age-appropriate learning \n\n\n🤝 Teamwork\, confidence-building & social interaction \n\n\n🌈 A celebration-focused program full of smiles and memories \n\n\nAll activities are thoughtfully planned for children ages 4–10\, ensuring a safe\, exciting\, and joyful camp experience ✨ \n\n📅 Camp Dates & Schedule (2026)\nDates: March 10 – March 19Days: \n\n\nTuesday to Friday (March 10–13) \n\n\nMonday to Thursday (March 16–19)(8 total camp days) \n\n\n⏰ Time Options\n🟢 Full Day Camp\n\n\nTime: 9:00 AM – 3:00 PM \n\n\n🟣 Half Day Camp (Two Options)\n\n\nMorning Half Day: 9:00 AM – 12:00 PM \n\n\nAfternoon Half Day: 12:00 PM – 3:00 PM \n\n\n\n👧👦 Age Group\nChildren ages 4–10 years \n\n🎟 Registration Options & Pricing\n💛 Best Value: Full 8 Days = only $56/day \nFamilies can choose the option that best fits their schedule: \n🌞 Full Day Tickets\n\n\nSingle Day Ticket – $69(~$69/day) \n\n\nFirst 4 Days Ticket (March 10–13) – $249(~$62.25/day) \n\n\nSecond 4 Days Ticket (March 16–19) – $249(~$62.25/day) \n\n\n✨ Full 8 Days Ticket: – $449(~$56.13/day – Lowest Daily Rate) \n\n\n🌤 Half Day Tickets (Full 8 Days)\nChoose one time slot for all 8 days: \n\n\nHalf Day – Morning (9:00 AM – 12:00 PM) – $229(~$28.63/day) \n\n\nHalf Day – Afternoon (12:00 PM – 3:00 PM) – $229(~$28.63/day) \n\n\n\n📍 Location\nMade by Me Studio2687 151st Pl NE\, Suite 3CRedmond\, WA \n\n🤍 Registration Notes\n\n\n⚠️ Limited spots available to keep groups small and engaging \n\n\n📩 Advance registration is required \n\n\n👨‍👩‍👧 Sibling discounts available — contact us for details \n\n\n\n✨ Let your child celebrate Eid with creativity\, joy\, friendships\, and faith-filled fun — all in one unforgettable camp experience!
URL:https://madebymellc.com/event/eid-camp-at-made-by-me-studio/
LOCATION:Made By Me – Redmond\, 2687 151st Place NE\, Suite 3C\, Redmond\, WA\, 98052\, United States
CATEGORIES:Camps,Ramadan
ATTACH;FMTTYPE=image/jpeg:https://madebymellc.com/wp-content/uploads/2026/01/eid-camp-26.jpg
END:VEVENT
BEGIN:VEVENT
DTSTART;TZID=America/Creston:20260216T090000
DTEND;TZID=America/Creston:20260220T150000
DTSTAMP:20260419T061245
CREATED:20260113T120901Z
LAST-MODIFIED:20260129T211537Z
UID:1732-1771232400-1771599600@madebymellc.com
SUMMARY:🌙 Ramadan Camp at Made By Me Studio 🌙
DESCRIPTION:A meaningful and joyful Ramadan experience for children \nGive your child a beautiful opportunity to connect with the spirit of Ramadan in a nurturing\, creative\, and faith-centered environment 🤍 \nOur Ramadan Camp is thoughtfully designed to help children understand and love Ramadan through age-appropriate Islamic learning\, hands-on activities\, and creative expression. Each day follows a balanced routine that blends learning\, play\, and creativity—supporting children spiritually\, socially\, and emotionally throughout the week. \n\n📚 What Children Will Experience\n\n\n📖 Qur’an learning \n\n\n🔤 Qaida Noorania (tailored to each child’s level) \n\n\n🌙 Islamic studies & Ramadan concepts \n\n\n🎨 Creative\, Ramadan-inspired crafts \n\n\n🤝 Group activities that encourage teamwork and confidence \n\n\nAll activities are carefully planned for children ages 4–10\, ensuring a safe\, engaging\, and joyful experience for every child. \n\n📅 Camp Dates & Schedule (2026)\nDates: Monday – Friday | February 16 – February 20 \nFull Day: 9:00 AM – 3:00 PM \nHalf Day Options: \n\nMorning: 9:00 AM – 12:00 PM\nAfternoon: 12:00 PM – 3:00 PM\n\n👶 Age Group: 4–10 years \n\n🕘 Flexible Registration Options\nFamilies may choose the option that best fits their schedule: \n\n\n🌞 Single Day: $69 \n\n\n🌞 Full Week – Full Day (9:00 AM – 3:00 PM): $319 \n\n\n🌤 Full Week – Half Day (9:00 AM – 12:00 PM): $179 \n\n\n🌤 Full Week – Half Day (12:00 PM – 3:00 PM): $179 \n\n\n👨‍👩‍👧 Sibling discounts are available — please contact us for details. \n\n📍 Location\nMade By Me Studio2687 151st Pl NE\, Suite 3CRedmond\, WA \n✨ Limited spots available to ensure quality\, care\, and individual attention. \n👉 Register early and give your child a Ramadan filled with learning\, creativity\, and beautiful memories.
URL:https://madebymellc.com/event/%f0%9f%8c%99-ramadan-camp-at-made-by-me-studio-%f0%9f%8c%99/
LOCATION:Made By Me – Redmond\, 2687 151st Place NE\, Suite 3C\, Redmond\, WA\, 98052\, United States
CATEGORIES:Camps,Ramadan
ATTACH;FMTTYPE=image/jpeg:https://madebymellc.com/wp-content/uploads/2026/01/ramadan-camp.jpg
END:VEVENT
BEGIN:VEVENT
DTSTART;TZID=America/Creston:20251222T090000
DTEND;TZID=America/Creston:20260102T150000
DTSTAMP:20260419T061245
CREATED:20251113T145100Z
LAST-MODIFIED:20251219T200219Z
UID:473-1766394000-1767366000@madebymellc.com
SUMMARY:Little Muslim Winter Camp – December 22 to January 2 (Ages 4–10)
DESCRIPTION:❄️✨ Little Muslim Winter Camp is now open for registration! ✨❄️Give your child a warm\, creative\, faith-filled winter experience they’ll always remember ❤️ \n📍 Location:2687 151st Place NE\, Suite 3C\, Redmond\, WA \n🕘 Camp Schedule\nDays: Monday to FridayCamp Dates: December 22 – January 2 \n⏰ Time Options\nFull Day:9:00 AM – 3:00 PM \nHalf-Day Options:Parents may choose one of the following half-day sessions: \n\n\nMorning Session: 9:00 AM – 12:00 PM \n\n\nAfternoon Session: 12:00 PM – 3:00 PM \n\n\n\n🌙 Camp Experience\nA nurturing Islamic environment where children learn\, play\, create\, and connect 🌙🎨❤️ \n⭐ DAILY CAMP HIGHLIGHTS:\n1️⃣ Morning Duas & Adhkar2️⃣ Quran Halaqas3️⃣ Qaida Noorania4️⃣ Salah Practice & Wudu Lessons5️⃣ Islamic Studies6️⃣ Hands-On Craft Workshops7️⃣ Group Games & Activities \n\n⭐ REGISTRATION OPTIONS (Ticketed)\nFull-Day Options:\n\n\nTwo full weeks: $319/week \n\n\nOne full week: $349/week \n\n\nSingle day: $69/day \n\n\nHalf-Day Options (9 AM – 12 PM OR 12 PM – 3 PM):\n\n\nTwo weeks: $165/week \n\n\nOne week: $179/week \n\n\n🕒 Half-Day Session Choices:✔️ 9:00 AM – 12:00 PM✔️ 12:00 PM – 3:00 PM \n🎒 Ages: 4–10🎟 Limited spots — early registration recommended!
URL:https://madebymellc.com/event/winter-camp/
LOCATION:Made By Me – Redmond\, 2687 151st Place NE\, Suite 3C\, Redmond\, WA\, 98052\, United States
CATEGORIES:Camps
ATTACH;FMTTYPE=image/webp:https://madebymellc.com/wp-content/uploads/2025/10/winter-camp-little-muslim.webp
END:VEVENT
END:VCALENDAR