BEGIN:VCALENDAR
VERSION:2.0
PRODID:-//madebymellc.com - ECPv6.15.18//NONSGML v1.0//EN
CALSCALE:GREGORIAN
METHOD:PUBLISH
X-ORIGINAL-URL:https://madebymellc.com
X-WR-CALDESC:Events for madebymellc.com
REFRESH-INTERVAL;VALUE=DURATION:PT1H
X-Robots-Tag:noindex
X-PUBLISHED-TTL:PT1H
BEGIN:VTIMEZONE
TZID:America/Creston
BEGIN:STANDARD
TZOFFSETFROM:-0700
TZOFFSETTO:-0700
TZNAME:MST
DTSTART:20250101T000000
END:STANDARD
END:VTIMEZONE
BEGIN:VEVENT
DTSTART;TZID=America/Creston:20260216T090000
DTEND;TZID=America/Creston:20260220T150000
DTSTAMP:20260419T091613
CREATED:20260113T120901Z
LAST-MODIFIED:20260129T211537Z
UID:1732-1771232400-1771599600@madebymellc.com
SUMMARY:🌙 Ramadan Camp at Made By Me Studio 🌙
DESCRIPTION:A meaningful and joyful Ramadan experience for children \nGive your child a beautiful opportunity to connect with the spirit of Ramadan in a nurturing\, creative\, and faith-centered environment 🤍 \nOur Ramadan Camp is thoughtfully designed to help children understand and love Ramadan through age-appropriate Islamic learning\, hands-on activities\, and creative expression. Each day follows a balanced routine that blends learning\, play\, and creativity—supporting children spiritually\, socially\, and emotionally throughout the week. \n\n📚 What Children Will Experience\n\n\n📖 Qur’an learning \n\n\n🔤 Qaida Noorania (tailored to each child’s level) \n\n\n🌙 Islamic studies & Ramadan concepts \n\n\n🎨 Creative\, Ramadan-inspired crafts \n\n\n🤝 Group activities that encourage teamwork and confidence \n\n\nAll activities are carefully planned for children ages 4–10\, ensuring a safe\, engaging\, and joyful experience for every child. \n\n📅 Camp Dates & Schedule (2026)\nDates: Monday – Friday | February 16 – February 20 \nFull Day: 9:00 AM – 3:00 PM \nHalf Day Options: \n\nMorning: 9:00 AM – 12:00 PM\nAfternoon: 12:00 PM – 3:00 PM\n\n👶 Age Group: 4–10 years \n\n🕘 Flexible Registration Options\nFamilies may choose the option that best fits their schedule: \n\n\n🌞 Single Day: $69 \n\n\n🌞 Full Week – Full Day (9:00 AM – 3:00 PM): $319 \n\n\n🌤 Full Week – Half Day (9:00 AM – 12:00 PM): $179 \n\n\n🌤 Full Week – Half Day (12:00 PM – 3:00 PM): $179 \n\n\n👨‍👩‍👧 Sibling discounts are available — please contact us for details. \n\n📍 Location\nMade By Me Studio2687 151st Pl NE\, Suite 3CRedmond\, WA \n✨ Limited spots available to ensure quality\, care\, and individual attention. \n👉 Register early and give your child a Ramadan filled with learning\, creativity\, and beautiful memories.
URL:https://madebymellc.com/event/%f0%9f%8c%99-ramadan-camp-at-made-by-me-studio-%f0%9f%8c%99/
LOCATION:Made By Me – Redmond\, 2687 151st Place NE\, Suite 3C\, Redmond\, WA\, 98052\, United States
CATEGORIES:Camps,Ramadan
ATTACH;FMTTYPE=image/jpeg:https://madebymellc.com/wp-content/uploads/2026/01/ramadan-camp.jpg
END:VEVENT
END:VCALENDAR